BEGIN:VCALENDAR
VERSION:2.0
PRODID:-//Learmonth Cider - ECPv6.15.18//NONSGML v1.0//EN
CALSCALE:GREGORIAN
METHOD:PUBLISH
X-ORIGINAL-URL:https://learmonthcider.com.au
X-WR-CALDESC:Events for Learmonth Cider
REFRESH-INTERVAL;VALUE=DURATION:PT1H
X-Robots-Tag:noindex
X-PUBLISHED-TTL:PT1H
BEGIN:VTIMEZONE
TZID:Australia/Melbourne
BEGIN:STANDARD
TZOFFSETFROM:+1100
TZOFFSETTO:+1000
TZNAME:AEST
DTSTART:20250405T160000
END:STANDARD
BEGIN:DAYLIGHT
TZOFFSETFROM:+1000
TZOFFSETTO:+1100
TZNAME:AEDT
DTSTART:20251004T160000
END:DAYLIGHT
BEGIN:STANDARD
TZOFFSETFROM:+1100
TZOFFSETTO:+1000
TZNAME:AEST
DTSTART:20260404T160000
END:STANDARD
BEGIN:DAYLIGHT
TZOFFSETFROM:+1000
TZOFFSETTO:+1100
TZNAME:AEDT
DTSTART:20261003T160000
END:DAYLIGHT
BEGIN:STANDARD
TZOFFSETFROM:+1100
TZOFFSETTO:+1000
TZNAME:AEST
DTSTART:20270403T160000
END:STANDARD
BEGIN:DAYLIGHT
TZOFFSETFROM:+1000
TZOFFSETTO:+1100
TZNAME:AEDT
DTSTART:20271002T160000
END:DAYLIGHT
BEGIN:STANDARD
TZOFFSETFROM:+1100
TZOFFSETTO:+1000
TZNAME:AEST
DTSTART:20280401T160000
END:STANDARD
BEGIN:DAYLIGHT
TZOFFSETFROM:+1000
TZOFFSETTO:+1100
TZNAME:AEDT
DTSTART:20280930T160000
END:DAYLIGHT
END:VTIMEZONE
BEGIN:VEVENT
DTSTART;VALUE=DATE:20261011
DTEND;VALUE=DATE:20261012
DTSTAMP:20260421T000434
CREATED:20211118T063042Z
LAST-MODIFIED:20211118T063042Z
UID:1425-1791676800-1791763199@learmonthcider.com.au
SUMMARY:Cider Sundays
DESCRIPTION:Enjoy a Cider Sunday afternoon from noon to 4pm at Learmonth Cider.\nEntry is free: \n\nCider tastings and sales\nLight food / snacks available\nPétanque & Bocce\nChess & Draughts.\n\nFree entry | 12pm to 4pm \nCovid-19: Attendance is subject to numbers and to any Covid-19 restrictions that are in place at the time.
URL:https://learmonthcider.com.au/event/cider-sundays-2026-10-11/
LOCATION:Learmonth\, 318 High Street\,\, Learmonth\, Victoria\, 3352\, Australia
CATEGORIES:EVENTS
END:VEVENT
BEGIN:VEVENT
DTSTART;VALUE=DATE:20261018
DTEND;VALUE=DATE:20261019
DTSTAMP:20260421T000434
CREATED:20211118T063042Z
LAST-MODIFIED:20211118T063042Z
UID:1426-1792281600-1792367999@learmonthcider.com.au
SUMMARY:Cider Sundays
DESCRIPTION:Enjoy a Cider Sunday afternoon from noon to 4pm at Learmonth Cider.\nEntry is free: \n\nCider tastings and sales\nLight food / snacks available\nPétanque & Bocce\nChess & Draughts.\n\nFree entry | 12pm to 4pm \nCovid-19: Attendance is subject to numbers and to any Covid-19 restrictions that are in place at the time.
URL:https://learmonthcider.com.au/event/cider-sundays-2026-10-18/
LOCATION:Learmonth\, 318 High Street\,\, Learmonth\, Victoria\, 3352\, Australia
CATEGORIES:EVENTS
END:VEVENT
BEGIN:VEVENT
DTSTART;VALUE=DATE:20261025
DTEND;VALUE=DATE:20261026
DTSTAMP:20260421T000434
CREATED:20211118T063042Z
LAST-MODIFIED:20211118T063042Z
UID:1427-1792886400-1792972799@learmonthcider.com.au
SUMMARY:Cider Sundays
DESCRIPTION:Enjoy a Cider Sunday afternoon from noon to 4pm at Learmonth Cider.\nEntry is free: \n\nCider tastings and sales\nLight food / snacks available\nPétanque & Bocce\nChess & Draughts.\n\nFree entry | 12pm to 4pm \nCovid-19: Attendance is subject to numbers and to any Covid-19 restrictions that are in place at the time.
URL:https://learmonthcider.com.au/event/cider-sundays-2026-10-25/
LOCATION:Learmonth\, 318 High Street\,\, Learmonth\, Victoria\, 3352\, Australia
CATEGORIES:EVENTS
END:VEVENT
BEGIN:VEVENT
DTSTART;VALUE=DATE:20261101
DTEND;VALUE=DATE:20261102
DTSTAMP:20260421T000434
CREATED:20211118T063042Z
LAST-MODIFIED:20211118T063042Z
UID:1429-1793491200-1793577599@learmonthcider.com.au
SUMMARY:Cider Sundays
DESCRIPTION:Enjoy a Cider Sunday afternoon from noon to 4pm at Learmonth Cider.\nEntry is free: \n\nCider tastings and sales\nLight food / snacks available\nPétanque & Bocce\nChess & Draughts.\n\nFree entry | 12pm to 4pm \nCovid-19: Attendance is subject to numbers and to any Covid-19 restrictions that are in place at the time.
URL:https://learmonthcider.com.au/event/cider-sundays-2026-11-01/
LOCATION:Learmonth\, 318 High Street\,\, Learmonth\, Victoria\, 3352\, Australia
CATEGORIES:EVENTS
END:VEVENT
BEGIN:VEVENT
DTSTART;VALUE=DATE:20261108
DTEND;VALUE=DATE:20261109
DTSTAMP:20260421T000434
CREATED:20211118T063042Z
LAST-MODIFIED:20211118T063042Z
UID:1430-1794096000-1794182399@learmonthcider.com.au
SUMMARY:Cider Sundays
DESCRIPTION:Enjoy a Cider Sunday afternoon from noon to 4pm at Learmonth Cider.\nEntry is free: \n\nCider tastings and sales\nLight food / snacks available\nPétanque & Bocce\nChess & Draughts.\n\nFree entry | 12pm to 4pm \nCovid-19: Attendance is subject to numbers and to any Covid-19 restrictions that are in place at the time.
URL:https://learmonthcider.com.au/event/cider-sundays-2026-11-08/
LOCATION:Learmonth\, 318 High Street\,\, Learmonth\, Victoria\, 3352\, Australia
CATEGORIES:EVENTS
END:VEVENT
BEGIN:VEVENT
DTSTART;VALUE=DATE:20261115
DTEND;VALUE=DATE:20261116
DTSTAMP:20260421T000434
CREATED:20211118T063042Z
LAST-MODIFIED:20211118T063042Z
UID:1431-1794700800-1794787199@learmonthcider.com.au
SUMMARY:Cider Sundays
DESCRIPTION:Enjoy a Cider Sunday afternoon from noon to 4pm at Learmonth Cider.\nEntry is free: \n\nCider tastings and sales\nLight food / snacks available\nPétanque & Bocce\nChess & Draughts.\n\nFree entry | 12pm to 4pm \nCovid-19: Attendance is subject to numbers and to any Covid-19 restrictions that are in place at the time.
URL:https://learmonthcider.com.au/event/cider-sundays-2026-11-15/
LOCATION:Learmonth\, 318 High Street\,\, Learmonth\, Victoria\, 3352\, Australia
CATEGORIES:EVENTS
END:VEVENT
BEGIN:VEVENT
DTSTART;VALUE=DATE:20261122
DTEND;VALUE=DATE:20261123
DTSTAMP:20260421T000434
CREATED:20211118T063042Z
LAST-MODIFIED:20211118T063042Z
UID:1432-1795305600-1795391999@learmonthcider.com.au
SUMMARY:Cider Sundays
DESCRIPTION:Enjoy a Cider Sunday afternoon from noon to 4pm at Learmonth Cider.\nEntry is free: \n\nCider tastings and sales\nLight food / snacks available\nPétanque & Bocce\nChess & Draughts.\n\nFree entry | 12pm to 4pm \nCovid-19: Attendance is subject to numbers and to any Covid-19 restrictions that are in place at the time.
URL:https://learmonthcider.com.au/event/cider-sundays-2026-11-22/
LOCATION:Learmonth\, 318 High Street\,\, Learmonth\, Victoria\, 3352\, Australia
CATEGORIES:EVENTS
END:VEVENT
BEGIN:VEVENT
DTSTART;VALUE=DATE:20261129
DTEND;VALUE=DATE:20261130
DTSTAMP:20260421T000434
CREATED:20211118T063042Z
LAST-MODIFIED:20211118T063042Z
UID:1433-1795910400-1795996799@learmonthcider.com.au
SUMMARY:Cider Sundays
DESCRIPTION:Enjoy a Cider Sunday afternoon from noon to 4pm at Learmonth Cider.\nEntry is free: \n\nCider tastings and sales\nLight food / snacks available\nPétanque & Bocce\nChess & Draughts.\n\nFree entry | 12pm to 4pm \nCovid-19: Attendance is subject to numbers and to any Covid-19 restrictions that are in place at the time.
URL:https://learmonthcider.com.au/event/cider-sundays-2026-11-29/
LOCATION:Learmonth\, 318 High Street\,\, Learmonth\, Victoria\, 3352\, Australia
CATEGORIES:EVENTS
END:VEVENT
BEGIN:VEVENT
DTSTART;VALUE=DATE:20261206
DTEND;VALUE=DATE:20261207
DTSTAMP:20260421T000434
CREATED:20211118T063042Z
LAST-MODIFIED:20211118T063042Z
UID:1434-1796515200-1796601599@learmonthcider.com.au
SUMMARY:Cider Sundays
DESCRIPTION:Enjoy a Cider Sunday afternoon from noon to 4pm at Learmonth Cider.\nEntry is free: \n\nCider tastings and sales\nLight food / snacks available\nPétanque & Bocce\nChess & Draughts.\n\nFree entry | 12pm to 4pm \nCovid-19: Attendance is subject to numbers and to any Covid-19 restrictions that are in place at the time.
URL:https://learmonthcider.com.au/event/cider-sundays-2026-12-06/
LOCATION:Learmonth\, 318 High Street\,\, Learmonth\, Victoria\, 3352\, Australia
CATEGORIES:EVENTS
END:VEVENT
BEGIN:VEVENT
DTSTART;VALUE=DATE:20261213
DTEND;VALUE=DATE:20261214
DTSTAMP:20260421T000434
CREATED:20211118T063042Z
LAST-MODIFIED:20211118T063042Z
UID:1435-1797120000-1797206399@learmonthcider.com.au
SUMMARY:Cider Sundays
DESCRIPTION:Enjoy a Cider Sunday afternoon from noon to 4pm at Learmonth Cider.\nEntry is free: \n\nCider tastings and sales\nLight food / snacks available\nPétanque & Bocce\nChess & Draughts.\n\nFree entry | 12pm to 4pm \nCovid-19: Attendance is subject to numbers and to any Covid-19 restrictions that are in place at the time.
URL:https://learmonthcider.com.au/event/cider-sundays-2026-12-13/
LOCATION:Learmonth\, 318 High Street\,\, Learmonth\, Victoria\, 3352\, Australia
CATEGORIES:EVENTS
END:VEVENT
BEGIN:VEVENT
DTSTART;VALUE=DATE:20261220
DTEND;VALUE=DATE:20261221
DTSTAMP:20260421T000434
CREATED:20211118T063042Z
LAST-MODIFIED:20211118T063042Z
UID:1436-1797724800-1797811199@learmonthcider.com.au
SUMMARY:Cider Sundays
DESCRIPTION:Enjoy a Cider Sunday afternoon from noon to 4pm at Learmonth Cider.\nEntry is free: \n\nCider tastings and sales\nLight food / snacks available\nPétanque & Bocce\nChess & Draughts.\n\nFree entry | 12pm to 4pm \nCovid-19: Attendance is subject to numbers and to any Covid-19 restrictions that are in place at the time.
URL:https://learmonthcider.com.au/event/cider-sundays-2026-12-20/
LOCATION:Learmonth\, 318 High Street\,\, Learmonth\, Victoria\, 3352\, Australia
CATEGORIES:EVENTS
END:VEVENT
BEGIN:VEVENT
DTSTART;VALUE=DATE:20261227
DTEND;VALUE=DATE:20261228
DTSTAMP:20260421T000434
CREATED:20211118T063042Z
LAST-MODIFIED:20211118T063042Z
UID:1437-1798329600-1798415999@learmonthcider.com.au
SUMMARY:Cider Sundays
DESCRIPTION:Enjoy a Cider Sunday afternoon from noon to 4pm at Learmonth Cider.\nEntry is free: \n\nCider tastings and sales\nLight food / snacks available\nPétanque & Bocce\nChess & Draughts.\n\nFree entry | 12pm to 4pm \nCovid-19: Attendance is subject to numbers and to any Covid-19 restrictions that are in place at the time.
URL:https://learmonthcider.com.au/event/cider-sundays-2026-12-27/
LOCATION:Learmonth\, 318 High Street\,\, Learmonth\, Victoria\, 3352\, Australia
CATEGORIES:EVENTS
END:VEVENT
BEGIN:VEVENT
DTSTART;VALUE=DATE:20270103
DTEND;VALUE=DATE:20270104
DTSTAMP:20260421T000434
CREATED:20211118T063042Z
LAST-MODIFIED:20211118T063042Z
UID:1438-1798934400-1799020799@learmonthcider.com.au
SUMMARY:Cider Sundays
DESCRIPTION:Enjoy a Cider Sunday afternoon from noon to 4pm at Learmonth Cider.\nEntry is free: \n\nCider tastings and sales\nLight food / snacks available\nPétanque & Bocce\nChess & Draughts.\n\nFree entry | 12pm to 4pm \nCovid-19: Attendance is subject to numbers and to any Covid-19 restrictions that are in place at the time.
URL:https://learmonthcider.com.au/event/cider-sundays-2027-01-03/
LOCATION:Learmonth\, 318 High Street\,\, Learmonth\, Victoria\, 3352\, Australia
CATEGORIES:EVENTS
END:VEVENT
BEGIN:VEVENT
DTSTART;VALUE=DATE:20270110
DTEND;VALUE=DATE:20270111
DTSTAMP:20260421T000434
CREATED:20211118T063042Z
LAST-MODIFIED:20211118T063042Z
UID:1439-1799539200-1799625599@learmonthcider.com.au
SUMMARY:Cider Sundays
DESCRIPTION:Enjoy a Cider Sunday afternoon from noon to 4pm at Learmonth Cider.\nEntry is free: \n\nCider tastings and sales\nLight food / snacks available\nPétanque & Bocce\nChess & Draughts.\n\nFree entry | 12pm to 4pm \nCovid-19: Attendance is subject to numbers and to any Covid-19 restrictions that are in place at the time.
URL:https://learmonthcider.com.au/event/cider-sundays-2027-01-10/
LOCATION:Learmonth\, 318 High Street\,\, Learmonth\, Victoria\, 3352\, Australia
CATEGORIES:EVENTS
END:VEVENT
BEGIN:VEVENT
DTSTART;VALUE=DATE:20270117
DTEND;VALUE=DATE:20270118
DTSTAMP:20260421T000434
CREATED:20211118T063042Z
LAST-MODIFIED:20211118T063042Z
UID:1440-1800144000-1800230399@learmonthcider.com.au
SUMMARY:Cider Sundays
DESCRIPTION:Enjoy a Cider Sunday afternoon from noon to 4pm at Learmonth Cider.\nEntry is free: \n\nCider tastings and sales\nLight food / snacks available\nPétanque & Bocce\nChess & Draughts.\n\nFree entry | 12pm to 4pm \nCovid-19: Attendance is subject to numbers and to any Covid-19 restrictions that are in place at the time.
URL:https://learmonthcider.com.au/event/cider-sundays-2027-01-17/
LOCATION:Learmonth\, 318 High Street\,\, Learmonth\, Victoria\, 3352\, Australia
CATEGORIES:EVENTS
END:VEVENT
BEGIN:VEVENT
DTSTART;VALUE=DATE:20270124
DTEND;VALUE=DATE:20270125
DTSTAMP:20260421T000434
CREATED:20211118T063042Z
LAST-MODIFIED:20211118T063042Z
UID:1441-1800748800-1800835199@learmonthcider.com.au
SUMMARY:Cider Sundays
DESCRIPTION:Enjoy a Cider Sunday afternoon from noon to 4pm at Learmonth Cider.\nEntry is free: \n\nCider tastings and sales\nLight food / snacks available\nPétanque & Bocce\nChess & Draughts.\n\nFree entry | 12pm to 4pm \nCovid-19: Attendance is subject to numbers and to any Covid-19 restrictions that are in place at the time.
URL:https://learmonthcider.com.au/event/cider-sundays-2027-01-24/
LOCATION:Learmonth\, 318 High Street\,\, Learmonth\, Victoria\, 3352\, Australia
CATEGORIES:EVENTS
END:VEVENT
BEGIN:VEVENT
DTSTART;VALUE=DATE:20270131
DTEND;VALUE=DATE:20270201
DTSTAMP:20260421T000434
CREATED:20211118T063042Z
LAST-MODIFIED:20211118T063042Z
UID:1443-1801353600-1801439999@learmonthcider.com.au
SUMMARY:Cider Sundays
DESCRIPTION:Enjoy a Cider Sunday afternoon from noon to 4pm at Learmonth Cider.\nEntry is free: \n\nCider tastings and sales\nLight food / snacks available\nPétanque & Bocce\nChess & Draughts.\n\nFree entry | 12pm to 4pm \nCovid-19: Attendance is subject to numbers and to any Covid-19 restrictions that are in place at the time.
URL:https://learmonthcider.com.au/event/cider-sundays-2027-01-31/
LOCATION:Learmonth\, 318 High Street\,\, Learmonth\, Victoria\, 3352\, Australia
CATEGORIES:EVENTS
END:VEVENT
BEGIN:VEVENT
DTSTART;VALUE=DATE:20270207
DTEND;VALUE=DATE:20270208
DTSTAMP:20260421T000434
CREATED:20211118T063042Z
LAST-MODIFIED:20211118T063042Z
UID:1444-1801958400-1802044799@learmonthcider.com.au
SUMMARY:Cider Sundays
DESCRIPTION:Enjoy a Cider Sunday afternoon from noon to 4pm at Learmonth Cider.\nEntry is free: \n\nCider tastings and sales\nLight food / snacks available\nPétanque & Bocce\nChess & Draughts.\n\nFree entry | 12pm to 4pm \nCovid-19: Attendance is subject to numbers and to any Covid-19 restrictions that are in place at the time.
URL:https://learmonthcider.com.au/event/cider-sundays-2027-02-07/
LOCATION:Learmonth\, 318 High Street\,\, Learmonth\, Victoria\, 3352\, Australia
CATEGORIES:EVENTS
END:VEVENT
BEGIN:VEVENT
DTSTART;VALUE=DATE:20270214
DTEND;VALUE=DATE:20270215
DTSTAMP:20260421T000434
CREATED:20211118T063042Z
LAST-MODIFIED:20211118T063042Z
UID:1445-1802563200-1802649599@learmonthcider.com.au
SUMMARY:Cider Sundays
DESCRIPTION:Enjoy a Cider Sunday afternoon from noon to 4pm at Learmonth Cider.\nEntry is free: \n\nCider tastings and sales\nLight food / snacks available\nPétanque & Bocce\nChess & Draughts.\n\nFree entry | 12pm to 4pm \nCovid-19: Attendance is subject to numbers and to any Covid-19 restrictions that are in place at the time.
URL:https://learmonthcider.com.au/event/cider-sundays-2027-02-14/
LOCATION:Learmonth\, 318 High Street\,\, Learmonth\, Victoria\, 3352\, Australia
CATEGORIES:EVENTS
END:VEVENT
BEGIN:VEVENT
DTSTART;VALUE=DATE:20270221
DTEND;VALUE=DATE:20270222
DTSTAMP:20260421T000434
CREATED:20211118T063042Z
LAST-MODIFIED:20211118T063042Z
UID:1446-1803168000-1803254399@learmonthcider.com.au
SUMMARY:Cider Sundays
DESCRIPTION:Enjoy a Cider Sunday afternoon from noon to 4pm at Learmonth Cider.\nEntry is free: \n\nCider tastings and sales\nLight food / snacks available\nPétanque & Bocce\nChess & Draughts.\n\nFree entry | 12pm to 4pm \nCovid-19: Attendance is subject to numbers and to any Covid-19 restrictions that are in place at the time.
URL:https://learmonthcider.com.au/event/cider-sundays-2027-02-21/
LOCATION:Learmonth\, 318 High Street\,\, Learmonth\, Victoria\, 3352\, Australia
CATEGORIES:EVENTS
END:VEVENT
BEGIN:VEVENT
DTSTART;VALUE=DATE:20270228
DTEND;VALUE=DATE:20270301
DTSTAMP:20260421T000434
CREATED:20211118T063042Z
LAST-MODIFIED:20211118T063042Z
UID:1447-1803772800-1803859199@learmonthcider.com.au
SUMMARY:Cider Sundays
DESCRIPTION:Enjoy a Cider Sunday afternoon from noon to 4pm at Learmonth Cider.\nEntry is free: \n\nCider tastings and sales\nLight food / snacks available\nPétanque & Bocce\nChess & Draughts.\n\nFree entry | 12pm to 4pm \nCovid-19: Attendance is subject to numbers and to any Covid-19 restrictions that are in place at the time.
URL:https://learmonthcider.com.au/event/cider-sundays-2027-02-28/
LOCATION:Learmonth\, 318 High Street\,\, Learmonth\, Victoria\, 3352\, Australia
CATEGORIES:EVENTS
END:VEVENT
BEGIN:VEVENT
DTSTART;VALUE=DATE:20270307
DTEND;VALUE=DATE:20270308
DTSTAMP:20260421T000434
CREATED:20211118T063042Z
LAST-MODIFIED:20211118T063042Z
UID:1448-1804377600-1804463999@learmonthcider.com.au
SUMMARY:Cider Sundays
DESCRIPTION:Enjoy a Cider Sunday afternoon from noon to 4pm at Learmonth Cider.\nEntry is free: \n\nCider tastings and sales\nLight food / snacks available\nPétanque & Bocce\nChess & Draughts.\n\nFree entry | 12pm to 4pm \nCovid-19: Attendance is subject to numbers and to any Covid-19 restrictions that are in place at the time.
URL:https://learmonthcider.com.au/event/cider-sundays-2027-03-07/
LOCATION:Learmonth\, 318 High Street\,\, Learmonth\, Victoria\, 3352\, Australia
CATEGORIES:EVENTS
END:VEVENT
BEGIN:VEVENT
DTSTART;VALUE=DATE:20270314
DTEND;VALUE=DATE:20270315
DTSTAMP:20260421T000434
CREATED:20211118T063042Z
LAST-MODIFIED:20211118T063042Z
UID:1475-1804982400-1805068799@learmonthcider.com.au
SUMMARY:Cider Sundays
DESCRIPTION:Enjoy a Cider Sunday afternoon from noon to 4pm at Learmonth Cider.\nEntry is free: \n\nCider tastings and sales\nLight food / snacks available\nPétanque & Bocce\nChess & Draughts.\n\nFree entry | 12pm to 4pm \nCovid-19: Attendance is subject to numbers and to any Covid-19 restrictions that are in place at the time.
URL:https://learmonthcider.com.au/event/cider-sundays-2027-03-14/
LOCATION:Learmonth\, 318 High Street\,\, Learmonth\, Victoria\, 3352\, Australia
CATEGORIES:EVENTS
END:VEVENT
END:VCALENDAR