BEGIN:VCALENDAR
VERSION:2.0
PRODID:-//Learmonth Cider - ECPv6.15.18//NONSGML v1.0//EN
CALSCALE:GREGORIAN
METHOD:PUBLISH
X-WR-CALNAME:Learmonth Cider
X-ORIGINAL-URL:https://learmonthcider.com.au
X-WR-CALDESC:Events for Learmonth Cider
REFRESH-INTERVAL;VALUE=DURATION:PT1H
X-Robots-Tag:noindex
X-PUBLISHED-TTL:PT1H
BEGIN:VTIMEZONE
TZID:Australia/Melbourne
BEGIN:STANDARD
TZOFFSETFROM:+1100
TZOFFSETTO:+1000
TZNAME:AEST
DTSTART:20230401T160000
END:STANDARD
BEGIN:DAYLIGHT
TZOFFSETFROM:+1000
TZOFFSETTO:+1100
TZNAME:AEDT
DTSTART:20230930T160000
END:DAYLIGHT
BEGIN:STANDARD
TZOFFSETFROM:+1100
TZOFFSETTO:+1000
TZNAME:AEST
DTSTART:20240406T160000
END:STANDARD
BEGIN:DAYLIGHT
TZOFFSETFROM:+1000
TZOFFSETTO:+1100
TZNAME:AEDT
DTSTART:20241005T160000
END:DAYLIGHT
BEGIN:STANDARD
TZOFFSETFROM:+1100
TZOFFSETTO:+1000
TZNAME:AEST
DTSTART:20250405T160000
END:STANDARD
BEGIN:DAYLIGHT
TZOFFSETFROM:+1000
TZOFFSETTO:+1100
TZNAME:AEDT
DTSTART:20251004T160000
END:DAYLIGHT
BEGIN:STANDARD
TZOFFSETFROM:+1100
TZOFFSETTO:+1000
TZNAME:AEST
DTSTART:20260404T160000
END:STANDARD
BEGIN:DAYLIGHT
TZOFFSETFROM:+1000
TZOFFSETTO:+1100
TZNAME:AEDT
DTSTART:20261003T160000
END:DAYLIGHT
END:VTIMEZONE
BEGIN:VEVENT
DTSTART;VALUE=DATE:20250112
DTEND;VALUE=DATE:20250113
DTSTAMP:20260422T045432
CREATED:20211118T063042Z
LAST-MODIFIED:20211118T063042Z
UID:1312-1736640000-1736726399@learmonthcider.com.au
SUMMARY:Cider Sundays
DESCRIPTION:Enjoy a Cider Sunday afternoon from noon to 4pm at Learmonth Cider.\nEntry is free: \n\nCider tastings and sales\nLight food / snacks available\nPétanque & Bocce\nChess & Draughts.\n\nFree entry | 12pm to 4pm \nCovid-19: Attendance is subject to numbers and to any Covid-19 restrictions that are in place at the time.
URL:https://learmonthcider.com.au/event/cider-sundays-2025-01-12/
LOCATION:Learmonth\, 318 High Street\,\, Learmonth\, Victoria\, 3352\, Australia
CATEGORIES:EVENTS
END:VEVENT
BEGIN:VEVENT
DTSTART;VALUE=DATE:20250105
DTEND;VALUE=DATE:20250106
DTSTAMP:20260422T045432
CREATED:20211118T063042Z
LAST-MODIFIED:20211118T063042Z
UID:1311-1736035200-1736121599@learmonthcider.com.au
SUMMARY:Cider Sundays
DESCRIPTION:Enjoy a Cider Sunday afternoon from noon to 4pm at Learmonth Cider.\nEntry is free: \n\nCider tastings and sales\nLight food / snacks available\nPétanque & Bocce\nChess & Draughts.\n\nFree entry | 12pm to 4pm \nCovid-19: Attendance is subject to numbers and to any Covid-19 restrictions that are in place at the time.
URL:https://learmonthcider.com.au/event/cider-sundays-2025-01-05/
LOCATION:Learmonth\, 318 High Street\,\, Learmonth\, Victoria\, 3352\, Australia
CATEGORIES:EVENTS
END:VEVENT
BEGIN:VEVENT
DTSTART;VALUE=DATE:20241229
DTEND;VALUE=DATE:20241230
DTSTAMP:20260422T045432
CREATED:20211118T063042Z
LAST-MODIFIED:20211118T063042Z
UID:1310-1735430400-1735516799@learmonthcider.com.au
SUMMARY:Cider Sundays
DESCRIPTION:Enjoy a Cider Sunday afternoon from noon to 4pm at Learmonth Cider.\nEntry is free: \n\nCider tastings and sales\nLight food / snacks available\nPétanque & Bocce\nChess & Draughts.\n\nFree entry | 12pm to 4pm \nCovid-19: Attendance is subject to numbers and to any Covid-19 restrictions that are in place at the time.
URL:https://learmonthcider.com.au/event/cider-sundays-2024-12-29/
LOCATION:Learmonth\, 318 High Street\,\, Learmonth\, Victoria\, 3352\, Australia
CATEGORIES:EVENTS
END:VEVENT
BEGIN:VEVENT
DTSTART;VALUE=DATE:20241222
DTEND;VALUE=DATE:20241223
DTSTAMP:20260422T045432
CREATED:20211118T063042Z
LAST-MODIFIED:20211118T063042Z
UID:1309-1734825600-1734911999@learmonthcider.com.au
SUMMARY:Cider Sundays
DESCRIPTION:Enjoy a Cider Sunday afternoon from noon to 4pm at Learmonth Cider.\nEntry is free: \n\nCider tastings and sales\nLight food / snacks available\nPétanque & Bocce\nChess & Draughts.\n\nFree entry | 12pm to 4pm \nCovid-19: Attendance is subject to numbers and to any Covid-19 restrictions that are in place at the time.
URL:https://learmonthcider.com.au/event/cider-sundays-2024-12-22/
LOCATION:Learmonth\, 318 High Street\,\, Learmonth\, Victoria\, 3352\, Australia
CATEGORIES:EVENTS
END:VEVENT
BEGIN:VEVENT
DTSTART;VALUE=DATE:20241215
DTEND;VALUE=DATE:20241216
DTSTAMP:20260422T045432
CREATED:20211118T063042Z
LAST-MODIFIED:20211118T063042Z
UID:1307-1734220800-1734307199@learmonthcider.com.au
SUMMARY:Cider Sundays
DESCRIPTION:Enjoy a Cider Sunday afternoon from noon to 4pm at Learmonth Cider.\nEntry is free: \n\nCider tastings and sales\nLight food / snacks available\nPétanque & Bocce\nChess & Draughts.\n\nFree entry | 12pm to 4pm \nCovid-19: Attendance is subject to numbers and to any Covid-19 restrictions that are in place at the time.
URL:https://learmonthcider.com.au/event/cider-sundays-2024-12-15/
LOCATION:Learmonth\, 318 High Street\,\, Learmonth\, Victoria\, 3352\, Australia
CATEGORIES:EVENTS
END:VEVENT
BEGIN:VEVENT
DTSTART;VALUE=DATE:20241208
DTEND;VALUE=DATE:20241209
DTSTAMP:20260422T045432
CREATED:20211118T063042Z
LAST-MODIFIED:20211118T063042Z
UID:1306-1733616000-1733702399@learmonthcider.com.au
SUMMARY:Cider Sundays
DESCRIPTION:Enjoy a Cider Sunday afternoon from noon to 4pm at Learmonth Cider.\nEntry is free: \n\nCider tastings and sales\nLight food / snacks available\nPétanque & Bocce\nChess & Draughts.\n\nFree entry | 12pm to 4pm \nCovid-19: Attendance is subject to numbers and to any Covid-19 restrictions that are in place at the time.
URL:https://learmonthcider.com.au/event/cider-sundays-2024-12-08/
LOCATION:Learmonth\, 318 High Street\,\, Learmonth\, Victoria\, 3352\, Australia
CATEGORIES:EVENTS
END:VEVENT
BEGIN:VEVENT
DTSTART;VALUE=DATE:20241201
DTEND;VALUE=DATE:20241202
DTSTAMP:20260422T045432
CREATED:20211118T063042Z
LAST-MODIFIED:20211118T063042Z
UID:1304-1733011200-1733097599@learmonthcider.com.au
SUMMARY:Cider Sundays
DESCRIPTION:Enjoy a Cider Sunday afternoon from noon to 4pm at Learmonth Cider.\nEntry is free: \n\nCider tastings and sales\nLight food / snacks available\nPétanque & Bocce\nChess & Draughts.\n\nFree entry | 12pm to 4pm \nCovid-19: Attendance is subject to numbers and to any Covid-19 restrictions that are in place at the time.
URL:https://learmonthcider.com.au/event/cider-sundays-2024-12-01/
LOCATION:Learmonth\, 318 High Street\,\, Learmonth\, Victoria\, 3352\, Australia
CATEGORIES:EVENTS
END:VEVENT
BEGIN:VEVENT
DTSTART;VALUE=DATE:20241124
DTEND;VALUE=DATE:20241125
DTSTAMP:20260422T045432
CREATED:20211118T063042Z
LAST-MODIFIED:20211118T063042Z
UID:1303-1732406400-1732492799@learmonthcider.com.au
SUMMARY:Cider Sundays
DESCRIPTION:Enjoy a Cider Sunday afternoon from noon to 4pm at Learmonth Cider.\nEntry is free: \n\nCider tastings and sales\nLight food / snacks available\nPétanque & Bocce\nChess & Draughts.\n\nFree entry | 12pm to 4pm \nCovid-19: Attendance is subject to numbers and to any Covid-19 restrictions that are in place at the time.
URL:https://learmonthcider.com.au/event/cider-sundays-2024-11-24/
LOCATION:Learmonth\, 318 High Street\,\, Learmonth\, Victoria\, 3352\, Australia
CATEGORIES:EVENTS
END:VEVENT
BEGIN:VEVENT
DTSTART;VALUE=DATE:20241117
DTEND;VALUE=DATE:20241118
DTSTAMP:20260422T045432
CREATED:20211118T063042Z
LAST-MODIFIED:20211118T063042Z
UID:1301-1731801600-1731887999@learmonthcider.com.au
SUMMARY:Cider Sundays
DESCRIPTION:Enjoy a Cider Sunday afternoon from noon to 4pm at Learmonth Cider.\nEntry is free: \n\nCider tastings and sales\nLight food / snacks available\nPétanque & Bocce\nChess & Draughts.\n\nFree entry | 12pm to 4pm \nCovid-19: Attendance is subject to numbers and to any Covid-19 restrictions that are in place at the time.
URL:https://learmonthcider.com.au/event/cider-sundays-2024-11-17/
LOCATION:Learmonth\, 318 High Street\,\, Learmonth\, Victoria\, 3352\, Australia
CATEGORIES:EVENTS
END:VEVENT
BEGIN:VEVENT
DTSTART;VALUE=DATE:20241110
DTEND;VALUE=DATE:20241111
DTSTAMP:20260422T045432
CREATED:20211118T063042Z
LAST-MODIFIED:20211118T063042Z
UID:1299-1731196800-1731283199@learmonthcider.com.au
SUMMARY:Cider Sundays
DESCRIPTION:Enjoy a Cider Sunday afternoon from noon to 4pm at Learmonth Cider.\nEntry is free: \n\nCider tastings and sales\nLight food / snacks available\nPétanque & Bocce\nChess & Draughts.\n\nFree entry | 12pm to 4pm \nCovid-19: Attendance is subject to numbers and to any Covid-19 restrictions that are in place at the time.
URL:https://learmonthcider.com.au/event/cider-sundays-2024-11-10/
LOCATION:Learmonth\, 318 High Street\,\, Learmonth\, Victoria\, 3352\, Australia
CATEGORIES:EVENTS
END:VEVENT
BEGIN:VEVENT
DTSTART;VALUE=DATE:20241103
DTEND;VALUE=DATE:20241104
DTSTAMP:20260422T045432
CREATED:20211118T063042Z
LAST-MODIFIED:20211118T063042Z
UID:1298-1730592000-1730678399@learmonthcider.com.au
SUMMARY:Cider Sundays
DESCRIPTION:Enjoy a Cider Sunday afternoon from noon to 4pm at Learmonth Cider.\nEntry is free: \n\nCider tastings and sales\nLight food / snacks available\nPétanque & Bocce\nChess & Draughts.\n\nFree entry | 12pm to 4pm \nCovid-19: Attendance is subject to numbers and to any Covid-19 restrictions that are in place at the time.
URL:https://learmonthcider.com.au/event/cider-sundays-2024-11-03/
LOCATION:Learmonth\, 318 High Street\,\, Learmonth\, Victoria\, 3352\, Australia
CATEGORIES:EVENTS
END:VEVENT
BEGIN:VEVENT
DTSTART;VALUE=DATE:20241027
DTEND;VALUE=DATE:20241028
DTSTAMP:20260422T045432
CREATED:20211118T063042Z
LAST-MODIFIED:20211118T063042Z
UID:1297-1729987200-1730073599@learmonthcider.com.au
SUMMARY:Cider Sundays
DESCRIPTION:Enjoy a Cider Sunday afternoon from noon to 4pm at Learmonth Cider.\nEntry is free: \n\nCider tastings and sales\nLight food / snacks available\nPétanque & Bocce\nChess & Draughts.\n\nFree entry | 12pm to 4pm \nCovid-19: Attendance is subject to numbers and to any Covid-19 restrictions that are in place at the time.
URL:https://learmonthcider.com.au/event/cider-sundays-2024-10-27/
LOCATION:Learmonth\, 318 High Street\,\, Learmonth\, Victoria\, 3352\, Australia
CATEGORIES:EVENTS
END:VEVENT
BEGIN:VEVENT
DTSTART;VALUE=DATE:20241020
DTEND;VALUE=DATE:20241021
DTSTAMP:20260422T045432
CREATED:20211118T063042Z
LAST-MODIFIED:20211118T063042Z
UID:1295-1729382400-1729468799@learmonthcider.com.au
SUMMARY:Cider Sundays
DESCRIPTION:Enjoy a Cider Sunday afternoon from noon to 4pm at Learmonth Cider.\nEntry is free: \n\nCider tastings and sales\nLight food / snacks available\nPétanque & Bocce\nChess & Draughts.\n\nFree entry | 12pm to 4pm \nCovid-19: Attendance is subject to numbers and to any Covid-19 restrictions that are in place at the time.
URL:https://learmonthcider.com.au/event/cider-sundays-2024-10-20/
LOCATION:Learmonth\, 318 High Street\,\, Learmonth\, Victoria\, 3352\, Australia
CATEGORIES:EVENTS
END:VEVENT
BEGIN:VEVENT
DTSTART;VALUE=DATE:20241013
DTEND;VALUE=DATE:20241014
DTSTAMP:20260422T045432
CREATED:20211118T063042Z
LAST-MODIFIED:20211118T063042Z
UID:1294-1728777600-1728863999@learmonthcider.com.au
SUMMARY:Cider Sundays
DESCRIPTION:Enjoy a Cider Sunday afternoon from noon to 4pm at Learmonth Cider.\nEntry is free: \n\nCider tastings and sales\nLight food / snacks available\nPétanque & Bocce\nChess & Draughts.\n\nFree entry | 12pm to 4pm \nCovid-19: Attendance is subject to numbers and to any Covid-19 restrictions that are in place at the time.
URL:https://learmonthcider.com.au/event/cider-sundays-2024-10-13/
LOCATION:Learmonth\, 318 High Street\,\, Learmonth\, Victoria\, 3352\, Australia
CATEGORIES:EVENTS
END:VEVENT
BEGIN:VEVENT
DTSTART;VALUE=DATE:20241006
DTEND;VALUE=DATE:20241007
DTSTAMP:20260422T045432
CREATED:20211118T063042Z
LAST-MODIFIED:20211118T063042Z
UID:1292-1728172800-1728259199@learmonthcider.com.au
SUMMARY:Cider Sundays
DESCRIPTION:Enjoy a Cider Sunday afternoon from noon to 4pm at Learmonth Cider.\nEntry is free: \n\nCider tastings and sales\nLight food / snacks available\nPétanque & Bocce\nChess & Draughts.\n\nFree entry | 12pm to 4pm \nCovid-19: Attendance is subject to numbers and to any Covid-19 restrictions that are in place at the time.
URL:https://learmonthcider.com.au/event/cider-sundays-2024-10-06/
LOCATION:Learmonth\, 318 High Street\,\, Learmonth\, Victoria\, 3352\, Australia
CATEGORIES:EVENTS
END:VEVENT
BEGIN:VEVENT
DTSTART;VALUE=DATE:20240929
DTEND;VALUE=DATE:20240930
DTSTAMP:20260422T045432
CREATED:20211118T063042Z
LAST-MODIFIED:20211118T063042Z
UID:1291-1727568000-1727654399@learmonthcider.com.au
SUMMARY:Cider Sundays
DESCRIPTION:Enjoy a Cider Sunday afternoon from noon to 4pm at Learmonth Cider.\nEntry is free: \n\nCider tastings and sales\nLight food / snacks available\nPétanque & Bocce\nChess & Draughts.\n\nFree entry | 12pm to 4pm \nCovid-19: Attendance is subject to numbers and to any Covid-19 restrictions that are in place at the time.
URL:https://learmonthcider.com.au/event/cider-sundays-2024-09-29/
LOCATION:Learmonth\, 318 High Street\,\, Learmonth\, Victoria\, 3352\, Australia
CATEGORIES:EVENTS
END:VEVENT
BEGIN:VEVENT
DTSTART;VALUE=DATE:20240922
DTEND;VALUE=DATE:20240923
DTSTAMP:20260422T045432
CREATED:20211118T063042Z
LAST-MODIFIED:20211118T063042Z
UID:1290-1726963200-1727049599@learmonthcider.com.au
SUMMARY:Cider Sundays
DESCRIPTION:Enjoy a Cider Sunday afternoon from noon to 4pm at Learmonth Cider.\nEntry is free: \n\nCider tastings and sales\nLight food / snacks available\nPétanque & Bocce\nChess & Draughts.\n\nFree entry | 12pm to 4pm \nCovid-19: Attendance is subject to numbers and to any Covid-19 restrictions that are in place at the time.
URL:https://learmonthcider.com.au/event/cider-sundays-2024-09-22/
LOCATION:Learmonth\, 318 High Street\,\, Learmonth\, Victoria\, 3352\, Australia
CATEGORIES:EVENTS
END:VEVENT
BEGIN:VEVENT
DTSTART;VALUE=DATE:20240915
DTEND;VALUE=DATE:20240916
DTSTAMP:20260422T045432
CREATED:20211118T063042Z
LAST-MODIFIED:20211118T063042Z
UID:1289-1726358400-1726444799@learmonthcider.com.au
SUMMARY:Cider Sundays
DESCRIPTION:Enjoy a Cider Sunday afternoon from noon to 4pm at Learmonth Cider.\nEntry is free: \n\nCider tastings and sales\nLight food / snacks available\nPétanque & Bocce\nChess & Draughts.\n\nFree entry | 12pm to 4pm \nCovid-19: Attendance is subject to numbers and to any Covid-19 restrictions that are in place at the time.
URL:https://learmonthcider.com.au/event/cider-sundays-2024-09-15/
LOCATION:Learmonth\, 318 High Street\,\, Learmonth\, Victoria\, 3352\, Australia
CATEGORIES:EVENTS
END:VEVENT
BEGIN:VEVENT
DTSTART;VALUE=DATE:20240908
DTEND;VALUE=DATE:20240909
DTSTAMP:20260422T045432
CREATED:20211118T063042Z
LAST-MODIFIED:20211118T063042Z
UID:1288-1725753600-1725839999@learmonthcider.com.au
SUMMARY:Cider Sundays
DESCRIPTION:Enjoy a Cider Sunday afternoon from noon to 4pm at Learmonth Cider.\nEntry is free: \n\nCider tastings and sales\nLight food / snacks available\nPétanque & Bocce\nChess & Draughts.\n\nFree entry | 12pm to 4pm \nCovid-19: Attendance is subject to numbers and to any Covid-19 restrictions that are in place at the time.
URL:https://learmonthcider.com.au/event/cider-sundays-2024-09-08/
LOCATION:Learmonth\, 318 High Street\,\, Learmonth\, Victoria\, 3352\, Australia
CATEGORIES:EVENTS
END:VEVENT
BEGIN:VEVENT
DTSTART;VALUE=DATE:20240901
DTEND;VALUE=DATE:20240902
DTSTAMP:20260422T045432
CREATED:20211118T063042Z
LAST-MODIFIED:20211118T063042Z
UID:1285-1725148800-1725235199@learmonthcider.com.au
SUMMARY:Cider Sundays
DESCRIPTION:Enjoy a Cider Sunday afternoon from noon to 4pm at Learmonth Cider.\nEntry is free: \n\nCider tastings and sales\nLight food / snacks available\nPétanque & Bocce\nChess & Draughts.\n\nFree entry | 12pm to 4pm \nCovid-19: Attendance is subject to numbers and to any Covid-19 restrictions that are in place at the time.
URL:https://learmonthcider.com.au/event/cider-sundays-2024-09-01/
LOCATION:Learmonth\, 318 High Street\,\, Learmonth\, Victoria\, 3352\, Australia
CATEGORIES:EVENTS
END:VEVENT
BEGIN:VEVENT
DTSTART;VALUE=DATE:20240825
DTEND;VALUE=DATE:20240826
DTSTAMP:20260422T045432
CREATED:20211118T063042Z
LAST-MODIFIED:20211118T063042Z
UID:1284-1724544000-1724630399@learmonthcider.com.au
SUMMARY:Cider Sundays
DESCRIPTION:Enjoy a Cider Sunday afternoon from noon to 4pm at Learmonth Cider.\nEntry is free: \n\nCider tastings and sales\nLight food / snacks available\nPétanque & Bocce\nChess & Draughts.\n\nFree entry | 12pm to 4pm \nCovid-19: Attendance is subject to numbers and to any Covid-19 restrictions that are in place at the time.
URL:https://learmonthcider.com.au/event/cider-sundays-2024-08-25/
LOCATION:Learmonth\, 318 High Street\,\, Learmonth\, Victoria\, 3352\, Australia
CATEGORIES:EVENTS
END:VEVENT
BEGIN:VEVENT
DTSTART;VALUE=DATE:20240818
DTEND;VALUE=DATE:20240819
DTSTAMP:20260422T045432
CREATED:20211118T063042Z
LAST-MODIFIED:20211118T063042Z
UID:1283-1723939200-1724025599@learmonthcider.com.au
SUMMARY:Cider Sundays
DESCRIPTION:Enjoy a Cider Sunday afternoon from noon to 4pm at Learmonth Cider.\nEntry is free: \n\nCider tastings and sales\nLight food / snacks available\nPétanque & Bocce\nChess & Draughts.\n\nFree entry | 12pm to 4pm \nCovid-19: Attendance is subject to numbers and to any Covid-19 restrictions that are in place at the time.
URL:https://learmonthcider.com.au/event/cider-sundays-2024-08-18/
LOCATION:Learmonth\, 318 High Street\,\, Learmonth\, Victoria\, 3352\, Australia
CATEGORIES:EVENTS
END:VEVENT
BEGIN:VEVENT
DTSTART;VALUE=DATE:20240811
DTEND;VALUE=DATE:20240812
DTSTAMP:20260422T045432
CREATED:20211118T063042Z
LAST-MODIFIED:20211118T063042Z
UID:1282-1723334400-1723420799@learmonthcider.com.au
SUMMARY:Cider Sundays
DESCRIPTION:Enjoy a Cider Sunday afternoon from noon to 4pm at Learmonth Cider.\nEntry is free: \n\nCider tastings and sales\nLight food / snacks available\nPétanque & Bocce\nChess & Draughts.\n\nFree entry | 12pm to 4pm \nCovid-19: Attendance is subject to numbers and to any Covid-19 restrictions that are in place at the time.
URL:https://learmonthcider.com.au/event/cider-sundays-2024-08-11/
LOCATION:Learmonth\, 318 High Street\,\, Learmonth\, Victoria\, 3352\, Australia
CATEGORIES:EVENTS
END:VEVENT
BEGIN:VEVENT
DTSTART;VALUE=DATE:20240804
DTEND;VALUE=DATE:20240805
DTSTAMP:20260422T045432
CREATED:20211118T063042Z
LAST-MODIFIED:20211118T063042Z
UID:1281-1722729600-1722815999@learmonthcider.com.au
SUMMARY:Cider Sundays
DESCRIPTION:Enjoy a Cider Sunday afternoon from noon to 4pm at Learmonth Cider.\nEntry is free: \n\nCider tastings and sales\nLight food / snacks available\nPétanque & Bocce\nChess & Draughts.\n\nFree entry | 12pm to 4pm \nCovid-19: Attendance is subject to numbers and to any Covid-19 restrictions that are in place at the time.
URL:https://learmonthcider.com.au/event/cider-sundays-2024-08-04/
LOCATION:Learmonth\, 318 High Street\,\, Learmonth\, Victoria\, 3352\, Australia
CATEGORIES:EVENTS
END:VEVENT
BEGIN:VEVENT
DTSTART;VALUE=DATE:20240728
DTEND;VALUE=DATE:20240729
DTSTAMP:20260422T045432
CREATED:20211118T063042Z
LAST-MODIFIED:20211118T063042Z
UID:1280-1722124800-1722211199@learmonthcider.com.au
SUMMARY:Cider Sundays
DESCRIPTION:Enjoy a Cider Sunday afternoon from noon to 4pm at Learmonth Cider.\nEntry is free: \n\nCider tastings and sales\nLight food / snacks available\nPétanque & Bocce\nChess & Draughts.\n\nFree entry | 12pm to 4pm \nCovid-19: Attendance is subject to numbers and to any Covid-19 restrictions that are in place at the time.
URL:https://learmonthcider.com.au/event/cider-sundays-2024-07-28/
LOCATION:Learmonth\, 318 High Street\,\, Learmonth\, Victoria\, 3352\, Australia
CATEGORIES:EVENTS
END:VEVENT
BEGIN:VEVENT
DTSTART;VALUE=DATE:20240721
DTEND;VALUE=DATE:20240722
DTSTAMP:20260422T045432
CREATED:20211118T063042Z
LAST-MODIFIED:20211118T063042Z
UID:1279-1721520000-1721606399@learmonthcider.com.au
SUMMARY:Cider Sundays
DESCRIPTION:Enjoy a Cider Sunday afternoon from noon to 4pm at Learmonth Cider.\nEntry is free: \n\nCider tastings and sales\nLight food / snacks available\nPétanque & Bocce\nChess & Draughts.\n\nFree entry | 12pm to 4pm \nCovid-19: Attendance is subject to numbers and to any Covid-19 restrictions that are in place at the time.
URL:https://learmonthcider.com.au/event/cider-sundays-2024-07-21/
LOCATION:Learmonth\, 318 High Street\,\, Learmonth\, Victoria\, 3352\, Australia
CATEGORIES:EVENTS
END:VEVENT
BEGIN:VEVENT
DTSTART;VALUE=DATE:20240714
DTEND;VALUE=DATE:20240715
DTSTAMP:20260422T045432
CREATED:20211118T063042Z
LAST-MODIFIED:20211118T063042Z
UID:1278-1720915200-1721001599@learmonthcider.com.au
SUMMARY:Cider Sundays
DESCRIPTION:Enjoy a Cider Sunday afternoon from noon to 4pm at Learmonth Cider.\nEntry is free: \n\nCider tastings and sales\nLight food / snacks available\nPétanque & Bocce\nChess & Draughts.\n\nFree entry | 12pm to 4pm \nCovid-19: Attendance is subject to numbers and to any Covid-19 restrictions that are in place at the time.
URL:https://learmonthcider.com.au/event/cider-sundays-2024-07-14/
LOCATION:Learmonth\, 318 High Street\,\, Learmonth\, Victoria\, 3352\, Australia
CATEGORIES:EVENTS
END:VEVENT
BEGIN:VEVENT
DTSTART;VALUE=DATE:20240707
DTEND;VALUE=DATE:20240708
DTSTAMP:20260422T045432
CREATED:20211118T063042Z
LAST-MODIFIED:20211118T063042Z
UID:1276-1720310400-1720396799@learmonthcider.com.au
SUMMARY:Cider Sundays
DESCRIPTION:Enjoy a Cider Sunday afternoon from noon to 4pm at Learmonth Cider.\nEntry is free: \n\nCider tastings and sales\nLight food / snacks available\nPétanque & Bocce\nChess & Draughts.\n\nFree entry | 12pm to 4pm \nCovid-19: Attendance is subject to numbers and to any Covid-19 restrictions that are in place at the time.
URL:https://learmonthcider.com.au/event/cider-sundays-2024-07-07/
LOCATION:Learmonth\, 318 High Street\,\, Learmonth\, Victoria\, 3352\, Australia
CATEGORIES:EVENTS
END:VEVENT
BEGIN:VEVENT
DTSTART;VALUE=DATE:20240630
DTEND;VALUE=DATE:20240701
DTSTAMP:20260422T045432
CREATED:20211118T063042Z
LAST-MODIFIED:20211118T063042Z
UID:1274-1719705600-1719791999@learmonthcider.com.au
SUMMARY:Cider Sundays
DESCRIPTION:Enjoy a Cider Sunday afternoon from noon to 4pm at Learmonth Cider.\nEntry is free: \n\nCider tastings and sales\nLight food / snacks available\nPétanque & Bocce\nChess & Draughts.\n\nFree entry | 12pm to 4pm \nCovid-19: Attendance is subject to numbers and to any Covid-19 restrictions that are in place at the time.
URL:https://learmonthcider.com.au/event/cider-sundays-2024-06-30/
LOCATION:Learmonth\, 318 High Street\,\, Learmonth\, Victoria\, 3352\, Australia
CATEGORIES:EVENTS
END:VEVENT
BEGIN:VEVENT
DTSTART;VALUE=DATE:20240623
DTEND;VALUE=DATE:20240624
DTSTAMP:20260422T045432
CREATED:20211118T063042Z
LAST-MODIFIED:20211118T063042Z
UID:1273-1719100800-1719187199@learmonthcider.com.au
SUMMARY:Cider Sundays
DESCRIPTION:Enjoy a Cider Sunday afternoon from noon to 4pm at Learmonth Cider.\nEntry is free: \n\nCider tastings and sales\nLight food / snacks available\nPétanque & Bocce\nChess & Draughts.\n\nFree entry | 12pm to 4pm \nCovid-19: Attendance is subject to numbers and to any Covid-19 restrictions that are in place at the time.
URL:https://learmonthcider.com.au/event/cider-sundays-2024-06-23/
LOCATION:Learmonth\, 318 High Street\,\, Learmonth\, Victoria\, 3352\, Australia
CATEGORIES:EVENTS
END:VEVENT
END:VCALENDAR