BEGIN:VCALENDAR
VERSION:2.0
PRODID:-//Learmonth Cider - ECPv6.15.18//NONSGML v1.0//EN
CALSCALE:GREGORIAN
METHOD:PUBLISH
X-ORIGINAL-URL:https://learmonthcider.com.au
X-WR-CALDESC:Events for Learmonth Cider
REFRESH-INTERVAL;VALUE=DURATION:PT1H
X-Robots-Tag:noindex
X-PUBLISHED-TTL:PT1H
BEGIN:VTIMEZONE
TZID:Australia/Melbourne
BEGIN:STANDARD
TZOFFSETFROM:+1100
TZOFFSETTO:+1000
TZNAME:AEST
DTSTART:20250405T160000
END:STANDARD
BEGIN:DAYLIGHT
TZOFFSETFROM:+1000
TZOFFSETTO:+1100
TZNAME:AEDT
DTSTART:20251004T160000
END:DAYLIGHT
BEGIN:STANDARD
TZOFFSETFROM:+1100
TZOFFSETTO:+1000
TZNAME:AEST
DTSTART:20260404T160000
END:STANDARD
BEGIN:DAYLIGHT
TZOFFSETFROM:+1000
TZOFFSETTO:+1100
TZNAME:AEDT
DTSTART:20261003T160000
END:DAYLIGHT
BEGIN:STANDARD
TZOFFSETFROM:+1100
TZOFFSETTO:+1000
TZNAME:AEST
DTSTART:20270403T160000
END:STANDARD
BEGIN:DAYLIGHT
TZOFFSETFROM:+1000
TZOFFSETTO:+1100
TZNAME:AEDT
DTSTART:20271002T160000
END:DAYLIGHT
END:VTIMEZONE
BEGIN:VEVENT
DTSTART;VALUE=DATE:20260222
DTEND;VALUE=DATE:20260223
DTSTAMP:20260421T010034
CREATED:20211118T063042Z
LAST-MODIFIED:20211118T063042Z
UID:1382-1771718400-1771804799@learmonthcider.com.au
SUMMARY:Cider Sundays
DESCRIPTION:Enjoy a Cider Sunday afternoon from noon to 4pm at Learmonth Cider.\nEntry is free: \n\nCider tastings and sales\nLight food / snacks available\nPétanque & Bocce\nChess & Draughts.\n\nFree entry | 12pm to 4pm \nCovid-19: Attendance is subject to numbers and to any Covid-19 restrictions that are in place at the time.
URL:https://learmonthcider.com.au/event/cider-sundays-2026-02-22/
LOCATION:Learmonth\, 318 High Street\,\, Learmonth\, Victoria\, 3352\, Australia
CATEGORIES:EVENTS
END:VEVENT
BEGIN:VEVENT
DTSTART;VALUE=DATE:20260301
DTEND;VALUE=DATE:20260302
DTSTAMP:20260421T010034
CREATED:20211118T063042Z
LAST-MODIFIED:20211118T063042Z
UID:1383-1772323200-1772409599@learmonthcider.com.au
SUMMARY:Cider Sundays
DESCRIPTION:Enjoy a Cider Sunday afternoon from noon to 4pm at Learmonth Cider.\nEntry is free: \n\nCider tastings and sales\nLight food / snacks available\nPétanque & Bocce\nChess & Draughts.\n\nFree entry | 12pm to 4pm \nCovid-19: Attendance is subject to numbers and to any Covid-19 restrictions that are in place at the time.
URL:https://learmonthcider.com.au/event/cider-sundays-2026-03-01/
LOCATION:Learmonth\, 318 High Street\,\, Learmonth\, Victoria\, 3352\, Australia
CATEGORIES:EVENTS
END:VEVENT
BEGIN:VEVENT
DTSTART;VALUE=DATE:20260308
DTEND;VALUE=DATE:20260309
DTSTAMP:20260421T010034
CREATED:20211118T063042Z
LAST-MODIFIED:20211118T063042Z
UID:1384-1772928000-1773014399@learmonthcider.com.au
SUMMARY:Cider Sundays
DESCRIPTION:Enjoy a Cider Sunday afternoon from noon to 4pm at Learmonth Cider.\nEntry is free: \n\nCider tastings and sales\nLight food / snacks available\nPétanque & Bocce\nChess & Draughts.\n\nFree entry | 12pm to 4pm \nCovid-19: Attendance is subject to numbers and to any Covid-19 restrictions that are in place at the time.
URL:https://learmonthcider.com.au/event/cider-sundays-2026-03-08/
LOCATION:Learmonth\, 318 High Street\,\, Learmonth\, Victoria\, 3352\, Australia
CATEGORIES:EVENTS
END:VEVENT
BEGIN:VEVENT
DTSTART;VALUE=DATE:20260315
DTEND;VALUE=DATE:20260316
DTSTAMP:20260421T010034
CREATED:20211118T063042Z
LAST-MODIFIED:20211118T063042Z
UID:1385-1773532800-1773619199@learmonthcider.com.au
SUMMARY:Cider Sundays
DESCRIPTION:Enjoy a Cider Sunday afternoon from noon to 4pm at Learmonth Cider.\nEntry is free: \n\nCider tastings and sales\nLight food / snacks available\nPétanque & Bocce\nChess & Draughts.\n\nFree entry | 12pm to 4pm \nCovid-19: Attendance is subject to numbers and to any Covid-19 restrictions that are in place at the time.
URL:https://learmonthcider.com.au/event/cider-sundays-2026-03-15/
LOCATION:Learmonth\, 318 High Street\,\, Learmonth\, Victoria\, 3352\, Australia
CATEGORIES:EVENTS
END:VEVENT
BEGIN:VEVENT
DTSTART;VALUE=DATE:20260322
DTEND;VALUE=DATE:20260323
DTSTAMP:20260421T010034
CREATED:20211118T063042Z
LAST-MODIFIED:20211118T063042Z
UID:1390-1774137600-1774223999@learmonthcider.com.au
SUMMARY:Cider Sundays
DESCRIPTION:Enjoy a Cider Sunday afternoon from noon to 4pm at Learmonth Cider.\nEntry is free: \n\nCider tastings and sales\nLight food / snacks available\nPétanque & Bocce\nChess & Draughts.\n\nFree entry | 12pm to 4pm \nCovid-19: Attendance is subject to numbers and to any Covid-19 restrictions that are in place at the time.
URL:https://learmonthcider.com.au/event/cider-sundays-2026-03-22/
LOCATION:Learmonth\, 318 High Street\,\, Learmonth\, Victoria\, 3352\, Australia
CATEGORIES:EVENTS
END:VEVENT
BEGIN:VEVENT
DTSTART;VALUE=DATE:20260329
DTEND;VALUE=DATE:20260330
DTSTAMP:20260421T010034
CREATED:20211118T063042Z
LAST-MODIFIED:20211118T063042Z
UID:1391-1774742400-1774828799@learmonthcider.com.au
SUMMARY:Cider Sundays
DESCRIPTION:Enjoy a Cider Sunday afternoon from noon to 4pm at Learmonth Cider.\nEntry is free: \n\nCider tastings and sales\nLight food / snacks available\nPétanque & Bocce\nChess & Draughts.\n\nFree entry | 12pm to 4pm \nCovid-19: Attendance is subject to numbers and to any Covid-19 restrictions that are in place at the time.
URL:https://learmonthcider.com.au/event/cider-sundays-2026-03-29/
LOCATION:Learmonth\, 318 High Street\,\, Learmonth\, Victoria\, 3352\, Australia
CATEGORIES:EVENTS
END:VEVENT
BEGIN:VEVENT
DTSTART;VALUE=DATE:20260405
DTEND;VALUE=DATE:20260406
DTSTAMP:20260421T010034
CREATED:20211118T063042Z
LAST-MODIFIED:20211118T063042Z
UID:1392-1775347200-1775433599@learmonthcider.com.au
SUMMARY:Cider Sundays
DESCRIPTION:Enjoy a Cider Sunday afternoon from noon to 4pm at Learmonth Cider.\nEntry is free: \n\nCider tastings and sales\nLight food / snacks available\nPétanque & Bocce\nChess & Draughts.\n\nFree entry | 12pm to 4pm \nCovid-19: Attendance is subject to numbers and to any Covid-19 restrictions that are in place at the time.
URL:https://learmonthcider.com.au/event/cider-sundays-2026-04-05/
LOCATION:Learmonth\, 318 High Street\,\, Learmonth\, Victoria\, 3352\, Australia
CATEGORIES:EVENTS
END:VEVENT
BEGIN:VEVENT
DTSTART;VALUE=DATE:20260412
DTEND;VALUE=DATE:20260413
DTSTAMP:20260421T010034
CREATED:20211118T063042Z
LAST-MODIFIED:20211118T063042Z
UID:1394-1775952000-1776038399@learmonthcider.com.au
SUMMARY:Cider Sundays
DESCRIPTION:Enjoy a Cider Sunday afternoon from noon to 4pm at Learmonth Cider.\nEntry is free: \n\nCider tastings and sales\nLight food / snacks available\nPétanque & Bocce\nChess & Draughts.\n\nFree entry | 12pm to 4pm \nCovid-19: Attendance is subject to numbers and to any Covid-19 restrictions that are in place at the time.
URL:https://learmonthcider.com.au/event/cider-sundays-2026-04-12/
LOCATION:Learmonth\, 318 High Street\,\, Learmonth\, Victoria\, 3352\, Australia
CATEGORIES:EVENTS
END:VEVENT
BEGIN:VEVENT
DTSTART;VALUE=DATE:20260419
DTEND;VALUE=DATE:20260420
DTSTAMP:20260421T010034
CREATED:20211118T063042Z
LAST-MODIFIED:20211118T063042Z
UID:1395-1776556800-1776643199@learmonthcider.com.au
SUMMARY:Cider Sundays
DESCRIPTION:Enjoy a Cider Sunday afternoon from noon to 4pm at Learmonth Cider.\nEntry is free: \n\nCider tastings and sales\nLight food / snacks available\nPétanque & Bocce\nChess & Draughts.\n\nFree entry | 12pm to 4pm \nCovid-19: Attendance is subject to numbers and to any Covid-19 restrictions that are in place at the time.
URL:https://learmonthcider.com.au/event/cider-sundays-2026-04-19/
LOCATION:Learmonth\, 318 High Street\,\, Learmonth\, Victoria\, 3352\, Australia
CATEGORIES:EVENTS
END:VEVENT
BEGIN:VEVENT
DTSTART;VALUE=DATE:20260426
DTEND;VALUE=DATE:20260427
DTSTAMP:20260421T010034
CREATED:20211118T063042Z
LAST-MODIFIED:20211118T063042Z
UID:1396-1777161600-1777247999@learmonthcider.com.au
SUMMARY:Cider Sundays
DESCRIPTION:Enjoy a Cider Sunday afternoon from noon to 4pm at Learmonth Cider.\nEntry is free: \n\nCider tastings and sales\nLight food / snacks available\nPétanque & Bocce\nChess & Draughts.\n\nFree entry | 12pm to 4pm \nCovid-19: Attendance is subject to numbers and to any Covid-19 restrictions that are in place at the time.
URL:https://learmonthcider.com.au/event/cider-sundays-2026-04-26/
LOCATION:Learmonth\, 318 High Street\,\, Learmonth\, Victoria\, 3352\, Australia
CATEGORIES:EVENTS
END:VEVENT
BEGIN:VEVENT
DTSTART;VALUE=DATE:20260503
DTEND;VALUE=DATE:20260504
DTSTAMP:20260421T010034
CREATED:20211118T063042Z
LAST-MODIFIED:20211118T063042Z
UID:1398-1777766400-1777852799@learmonthcider.com.au
SUMMARY:Cider Sundays
DESCRIPTION:Enjoy a Cider Sunday afternoon from noon to 4pm at Learmonth Cider.\nEntry is free: \n\nCider tastings and sales\nLight food / snacks available\nPétanque & Bocce\nChess & Draughts.\n\nFree entry | 12pm to 4pm \nCovid-19: Attendance is subject to numbers and to any Covid-19 restrictions that are in place at the time.
URL:https://learmonthcider.com.au/event/cider-sundays-2026-05-03/
LOCATION:Learmonth\, 318 High Street\,\, Learmonth\, Victoria\, 3352\, Australia
CATEGORIES:EVENTS
END:VEVENT
BEGIN:VEVENT
DTSTART;VALUE=DATE:20260510
DTEND;VALUE=DATE:20260511
DTSTAMP:20260421T010034
CREATED:20211118T063042Z
LAST-MODIFIED:20211118T063042Z
UID:1399-1778371200-1778457599@learmonthcider.com.au
SUMMARY:Cider Sundays
DESCRIPTION:Enjoy a Cider Sunday afternoon from noon to 4pm at Learmonth Cider.\nEntry is free: \n\nCider tastings and sales\nLight food / snacks available\nPétanque & Bocce\nChess & Draughts.\n\nFree entry | 12pm to 4pm \nCovid-19: Attendance is subject to numbers and to any Covid-19 restrictions that are in place at the time.
URL:https://learmonthcider.com.au/event/cider-sundays-2026-05-10/
LOCATION:Learmonth\, 318 High Street\,\, Learmonth\, Victoria\, 3352\, Australia
CATEGORIES:EVENTS
END:VEVENT
BEGIN:VEVENT
DTSTART;VALUE=DATE:20260517
DTEND;VALUE=DATE:20260518
DTSTAMP:20260421T010034
CREATED:20211118T063042Z
LAST-MODIFIED:20211118T063042Z
UID:1401-1778976000-1779062399@learmonthcider.com.au
SUMMARY:Cider Sundays
DESCRIPTION:Enjoy a Cider Sunday afternoon from noon to 4pm at Learmonth Cider.\nEntry is free: \n\nCider tastings and sales\nLight food / snacks available\nPétanque & Bocce\nChess & Draughts.\n\nFree entry | 12pm to 4pm \nCovid-19: Attendance is subject to numbers and to any Covid-19 restrictions that are in place at the time.
URL:https://learmonthcider.com.au/event/cider-sundays-2026-05-17/
LOCATION:Learmonth\, 318 High Street\,\, Learmonth\, Victoria\, 3352\, Australia
CATEGORIES:EVENTS
END:VEVENT
BEGIN:VEVENT
DTSTART;VALUE=DATE:20260524
DTEND;VALUE=DATE:20260525
DTSTAMP:20260421T010034
CREATED:20211118T063042Z
LAST-MODIFIED:20211118T063042Z
UID:1402-1779580800-1779667199@learmonthcider.com.au
SUMMARY:Cider Sundays
DESCRIPTION:Enjoy a Cider Sunday afternoon from noon to 4pm at Learmonth Cider.\nEntry is free: \n\nCider tastings and sales\nLight food / snacks available\nPétanque & Bocce\nChess & Draughts.\n\nFree entry | 12pm to 4pm \nCovid-19: Attendance is subject to numbers and to any Covid-19 restrictions that are in place at the time.
URL:https://learmonthcider.com.au/event/cider-sundays-2026-05-24/
LOCATION:Learmonth\, 318 High Street\,\, Learmonth\, Victoria\, 3352\, Australia
CATEGORIES:EVENTS
END:VEVENT
BEGIN:VEVENT
DTSTART;VALUE=DATE:20260531
DTEND;VALUE=DATE:20260601
DTSTAMP:20260421T010034
CREATED:20211118T063042Z
LAST-MODIFIED:20211118T063042Z
UID:1403-1780185600-1780271999@learmonthcider.com.au
SUMMARY:Cider Sundays
DESCRIPTION:Enjoy a Cider Sunday afternoon from noon to 4pm at Learmonth Cider.\nEntry is free: \n\nCider tastings and sales\nLight food / snacks available\nPétanque & Bocce\nChess & Draughts.\n\nFree entry | 12pm to 4pm \nCovid-19: Attendance is subject to numbers and to any Covid-19 restrictions that are in place at the time.
URL:https://learmonthcider.com.au/event/cider-sundays-2026-05-31/
LOCATION:Learmonth\, 318 High Street\,\, Learmonth\, Victoria\, 3352\, Australia
CATEGORIES:EVENTS
END:VEVENT
BEGIN:VEVENT
DTSTART;VALUE=DATE:20260607
DTEND;VALUE=DATE:20260608
DTSTAMP:20260421T010034
CREATED:20211118T063042Z
LAST-MODIFIED:20211118T063042Z
UID:1404-1780790400-1780876799@learmonthcider.com.au
SUMMARY:Cider Sundays
DESCRIPTION:Enjoy a Cider Sunday afternoon from noon to 4pm at Learmonth Cider.\nEntry is free: \n\nCider tastings and sales\nLight food / snacks available\nPétanque & Bocce\nChess & Draughts.\n\nFree entry | 12pm to 4pm \nCovid-19: Attendance is subject to numbers and to any Covid-19 restrictions that are in place at the time.
URL:https://learmonthcider.com.au/event/cider-sundays-2026-06-07/
LOCATION:Learmonth\, 318 High Street\,\, Learmonth\, Victoria\, 3352\, Australia
CATEGORIES:EVENTS
END:VEVENT
BEGIN:VEVENT
DTSTART;VALUE=DATE:20260614
DTEND;VALUE=DATE:20260615
DTSTAMP:20260421T010034
CREATED:20211118T063042Z
LAST-MODIFIED:20211118T063042Z
UID:1406-1781395200-1781481599@learmonthcider.com.au
SUMMARY:Cider Sundays
DESCRIPTION:Enjoy a Cider Sunday afternoon from noon to 4pm at Learmonth Cider.\nEntry is free: \n\nCider tastings and sales\nLight food / snacks available\nPétanque & Bocce\nChess & Draughts.\n\nFree entry | 12pm to 4pm \nCovid-19: Attendance is subject to numbers and to any Covid-19 restrictions that are in place at the time.
URL:https://learmonthcider.com.au/event/cider-sundays-2026-06-14/
LOCATION:Learmonth\, 318 High Street\,\, Learmonth\, Victoria\, 3352\, Australia
CATEGORIES:EVENTS
END:VEVENT
BEGIN:VEVENT
DTSTART;VALUE=DATE:20260621
DTEND;VALUE=DATE:20260622
DTSTAMP:20260421T010034
CREATED:20211118T063042Z
LAST-MODIFIED:20211118T063042Z
UID:1407-1782000000-1782086399@learmonthcider.com.au
SUMMARY:Cider Sundays
DESCRIPTION:Enjoy a Cider Sunday afternoon from noon to 4pm at Learmonth Cider.\nEntry is free: \n\nCider tastings and sales\nLight food / snacks available\nPétanque & Bocce\nChess & Draughts.\n\nFree entry | 12pm to 4pm \nCovid-19: Attendance is subject to numbers and to any Covid-19 restrictions that are in place at the time.
URL:https://learmonthcider.com.au/event/cider-sundays-2026-06-21/
LOCATION:Learmonth\, 318 High Street\,\, Learmonth\, Victoria\, 3352\, Australia
CATEGORIES:EVENTS
END:VEVENT
BEGIN:VEVENT
DTSTART;VALUE=DATE:20260628
DTEND;VALUE=DATE:20260629
DTSTAMP:20260421T010034
CREATED:20211118T063042Z
LAST-MODIFIED:20211118T063042Z
UID:1408-1782604800-1782691199@learmonthcider.com.au
SUMMARY:Cider Sundays
DESCRIPTION:Enjoy a Cider Sunday afternoon from noon to 4pm at Learmonth Cider.\nEntry is free: \n\nCider tastings and sales\nLight food / snacks available\nPétanque & Bocce\nChess & Draughts.\n\nFree entry | 12pm to 4pm \nCovid-19: Attendance is subject to numbers and to any Covid-19 restrictions that are in place at the time.
URL:https://learmonthcider.com.au/event/cider-sundays-2026-06-28/
LOCATION:Learmonth\, 318 High Street\,\, Learmonth\, Victoria\, 3352\, Australia
CATEGORIES:EVENTS
END:VEVENT
BEGIN:VEVENT
DTSTART;VALUE=DATE:20260705
DTEND;VALUE=DATE:20260706
DTSTAMP:20260421T010034
CREATED:20211118T063042Z
LAST-MODIFIED:20211118T063042Z
UID:1409-1783209600-1783295999@learmonthcider.com.au
SUMMARY:Cider Sundays
DESCRIPTION:Enjoy a Cider Sunday afternoon from noon to 4pm at Learmonth Cider.\nEntry is free: \n\nCider tastings and sales\nLight food / snacks available\nPétanque & Bocce\nChess & Draughts.\n\nFree entry | 12pm to 4pm \nCovid-19: Attendance is subject to numbers and to any Covid-19 restrictions that are in place at the time.
URL:https://learmonthcider.com.au/event/cider-sundays-2026-07-05/
LOCATION:Learmonth\, 318 High Street\,\, Learmonth\, Victoria\, 3352\, Australia
CATEGORIES:EVENTS
END:VEVENT
BEGIN:VEVENT
DTSTART;VALUE=DATE:20260712
DTEND;VALUE=DATE:20260713
DTSTAMP:20260421T010034
CREATED:20211118T063042Z
LAST-MODIFIED:20211118T063042Z
UID:1410-1783814400-1783900799@learmonthcider.com.au
SUMMARY:Cider Sundays
DESCRIPTION:Enjoy a Cider Sunday afternoon from noon to 4pm at Learmonth Cider.\nEntry is free: \n\nCider tastings and sales\nLight food / snacks available\nPétanque & Bocce\nChess & Draughts.\n\nFree entry | 12pm to 4pm \nCovid-19: Attendance is subject to numbers and to any Covid-19 restrictions that are in place at the time.
URL:https://learmonthcider.com.au/event/cider-sundays-2026-07-12/
LOCATION:Learmonth\, 318 High Street\,\, Learmonth\, Victoria\, 3352\, Australia
CATEGORIES:EVENTS
END:VEVENT
BEGIN:VEVENT
DTSTART;VALUE=DATE:20260719
DTEND;VALUE=DATE:20260720
DTSTAMP:20260421T010034
CREATED:20211118T063042Z
LAST-MODIFIED:20211118T063042Z
UID:1411-1784419200-1784505599@learmonthcider.com.au
SUMMARY:Cider Sundays
DESCRIPTION:Enjoy a Cider Sunday afternoon from noon to 4pm at Learmonth Cider.\nEntry is free: \n\nCider tastings and sales\nLight food / snacks available\nPétanque & Bocce\nChess & Draughts.\n\nFree entry | 12pm to 4pm \nCovid-19: Attendance is subject to numbers and to any Covid-19 restrictions that are in place at the time.
URL:https://learmonthcider.com.au/event/cider-sundays-2026-07-19/
LOCATION:Learmonth\, 318 High Street\,\, Learmonth\, Victoria\, 3352\, Australia
CATEGORIES:EVENTS
END:VEVENT
BEGIN:VEVENT
DTSTART;VALUE=DATE:20260726
DTEND;VALUE=DATE:20260727
DTSTAMP:20260421T010034
CREATED:20211118T063042Z
LAST-MODIFIED:20211118T063042Z
UID:1412-1785024000-1785110399@learmonthcider.com.au
SUMMARY:Cider Sundays
DESCRIPTION:Enjoy a Cider Sunday afternoon from noon to 4pm at Learmonth Cider.\nEntry is free: \n\nCider tastings and sales\nLight food / snacks available\nPétanque & Bocce\nChess & Draughts.\n\nFree entry | 12pm to 4pm \nCovid-19: Attendance is subject to numbers and to any Covid-19 restrictions that are in place at the time.
URL:https://learmonthcider.com.au/event/cider-sundays-2026-07-26/
LOCATION:Learmonth\, 318 High Street\,\, Learmonth\, Victoria\, 3352\, Australia
CATEGORIES:EVENTS
END:VEVENT
BEGIN:VEVENT
DTSTART;VALUE=DATE:20260802
DTEND;VALUE=DATE:20260803
DTSTAMP:20260421T010034
CREATED:20211118T063042Z
LAST-MODIFIED:20211118T063042Z
UID:1414-1785628800-1785715199@learmonthcider.com.au
SUMMARY:Cider Sundays
DESCRIPTION:Enjoy a Cider Sunday afternoon from noon to 4pm at Learmonth Cider.\nEntry is free: \n\nCider tastings and sales\nLight food / snacks available\nPétanque & Bocce\nChess & Draughts.\n\nFree entry | 12pm to 4pm \nCovid-19: Attendance is subject to numbers and to any Covid-19 restrictions that are in place at the time.
URL:https://learmonthcider.com.au/event/cider-sundays-2026-08-02/
LOCATION:Learmonth\, 318 High Street\,\, Learmonth\, Victoria\, 3352\, Australia
CATEGORIES:EVENTS
END:VEVENT
BEGIN:VEVENT
DTSTART;VALUE=DATE:20260809
DTEND;VALUE=DATE:20260810
DTSTAMP:20260421T010034
CREATED:20211118T063042Z
LAST-MODIFIED:20211118T063042Z
UID:1415-1786233600-1786319999@learmonthcider.com.au
SUMMARY:Cider Sundays
DESCRIPTION:Enjoy a Cider Sunday afternoon from noon to 4pm at Learmonth Cider.\nEntry is free: \n\nCider tastings and sales\nLight food / snacks available\nPétanque & Bocce\nChess & Draughts.\n\nFree entry | 12pm to 4pm \nCovid-19: Attendance is subject to numbers and to any Covid-19 restrictions that are in place at the time.
URL:https://learmonthcider.com.au/event/cider-sundays-2026-08-09/
LOCATION:Learmonth\, 318 High Street\,\, Learmonth\, Victoria\, 3352\, Australia
CATEGORIES:EVENTS
END:VEVENT
BEGIN:VEVENT
DTSTART;VALUE=DATE:20260816
DTEND;VALUE=DATE:20260817
DTSTAMP:20260421T010034
CREATED:20211118T063042Z
LAST-MODIFIED:20211118T063042Z
UID:1416-1786838400-1786924799@learmonthcider.com.au
SUMMARY:Cider Sundays
DESCRIPTION:Enjoy a Cider Sunday afternoon from noon to 4pm at Learmonth Cider.\nEntry is free: \n\nCider tastings and sales\nLight food / snacks available\nPétanque & Bocce\nChess & Draughts.\n\nFree entry | 12pm to 4pm \nCovid-19: Attendance is subject to numbers and to any Covid-19 restrictions that are in place at the time.
URL:https://learmonthcider.com.au/event/cider-sundays-2026-08-16/
LOCATION:Learmonth\, 318 High Street\,\, Learmonth\, Victoria\, 3352\, Australia
CATEGORIES:EVENTS
END:VEVENT
BEGIN:VEVENT
DTSTART;VALUE=DATE:20260823
DTEND;VALUE=DATE:20260824
DTSTAMP:20260421T010034
CREATED:20211118T063042Z
LAST-MODIFIED:20211118T063042Z
UID:1417-1787443200-1787529599@learmonthcider.com.au
SUMMARY:Cider Sundays
DESCRIPTION:Enjoy a Cider Sunday afternoon from noon to 4pm at Learmonth Cider.\nEntry is free: \n\nCider tastings and sales\nLight food / snacks available\nPétanque & Bocce\nChess & Draughts.\n\nFree entry | 12pm to 4pm \nCovid-19: Attendance is subject to numbers and to any Covid-19 restrictions that are in place at the time.
URL:https://learmonthcider.com.au/event/cider-sundays-2026-08-23/
LOCATION:Learmonth\, 318 High Street\,\, Learmonth\, Victoria\, 3352\, Australia
CATEGORIES:EVENTS
END:VEVENT
BEGIN:VEVENT
DTSTART;VALUE=DATE:20260830
DTEND;VALUE=DATE:20260831
DTSTAMP:20260421T010034
CREATED:20211118T063042Z
LAST-MODIFIED:20211118T063042Z
UID:1419-1788048000-1788134399@learmonthcider.com.au
SUMMARY:Cider Sundays
DESCRIPTION:Enjoy a Cider Sunday afternoon from noon to 4pm at Learmonth Cider.\nEntry is free: \n\nCider tastings and sales\nLight food / snacks available\nPétanque & Bocce\nChess & Draughts.\n\nFree entry | 12pm to 4pm \nCovid-19: Attendance is subject to numbers and to any Covid-19 restrictions that are in place at the time.
URL:https://learmonthcider.com.au/event/cider-sundays-2026-08-30/
LOCATION:Learmonth\, 318 High Street\,\, Learmonth\, Victoria\, 3352\, Australia
CATEGORIES:EVENTS
END:VEVENT
BEGIN:VEVENT
DTSTART;VALUE=DATE:20260906
DTEND;VALUE=DATE:20260907
DTSTAMP:20260421T010034
CREATED:20211118T063042Z
LAST-MODIFIED:20211118T063042Z
UID:1420-1788652800-1788739199@learmonthcider.com.au
SUMMARY:Cider Sundays
DESCRIPTION:Enjoy a Cider Sunday afternoon from noon to 4pm at Learmonth Cider.\nEntry is free: \n\nCider tastings and sales\nLight food / snacks available\nPétanque & Bocce\nChess & Draughts.\n\nFree entry | 12pm to 4pm \nCovid-19: Attendance is subject to numbers and to any Covid-19 restrictions that are in place at the time.
URL:https://learmonthcider.com.au/event/cider-sundays-2026-09-06/
LOCATION:Learmonth\, 318 High Street\,\, Learmonth\, Victoria\, 3352\, Australia
CATEGORIES:EVENTS
END:VEVENT
BEGIN:VEVENT
DTSTART;VALUE=DATE:20260913
DTEND;VALUE=DATE:20260914
DTSTAMP:20260421T010034
CREATED:20211118T063042Z
LAST-MODIFIED:20211118T063042Z
UID:1421-1789257600-1789343999@learmonthcider.com.au
SUMMARY:Cider Sundays
DESCRIPTION:Enjoy a Cider Sunday afternoon from noon to 4pm at Learmonth Cider.\nEntry is free: \n\nCider tastings and sales\nLight food / snacks available\nPétanque & Bocce\nChess & Draughts.\n\nFree entry | 12pm to 4pm \nCovid-19: Attendance is subject to numbers and to any Covid-19 restrictions that are in place at the time.
URL:https://learmonthcider.com.au/event/cider-sundays-2026-09-13/
LOCATION:Learmonth\, 318 High Street\,\, Learmonth\, Victoria\, 3352\, Australia
CATEGORIES:EVENTS
END:VEVENT
END:VCALENDAR