BEGIN:VCALENDAR
VERSION:2.0
PRODID:-//Learmonth Cider - ECPv6.15.18//NONSGML v1.0//EN
CALSCALE:GREGORIAN
METHOD:PUBLISH
X-ORIGINAL-URL:https://learmonthcider.com.au
X-WR-CALDESC:Events for Learmonth Cider
REFRESH-INTERVAL;VALUE=DURATION:PT1H
X-Robots-Tag:noindex
X-PUBLISHED-TTL:PT1H
BEGIN:VTIMEZONE
TZID:Australia/Melbourne
BEGIN:STANDARD
TZOFFSETFROM:+1100
TZOFFSETTO:+1000
TZNAME:AEST
DTSTART:20230401T160000
END:STANDARD
BEGIN:DAYLIGHT
TZOFFSETFROM:+1000
TZOFFSETTO:+1100
TZNAME:AEDT
DTSTART:20230930T160000
END:DAYLIGHT
BEGIN:STANDARD
TZOFFSETFROM:+1100
TZOFFSETTO:+1000
TZNAME:AEST
DTSTART:20240406T160000
END:STANDARD
BEGIN:DAYLIGHT
TZOFFSETFROM:+1000
TZOFFSETTO:+1100
TZNAME:AEDT
DTSTART:20241005T160000
END:DAYLIGHT
BEGIN:STANDARD
TZOFFSETFROM:+1100
TZOFFSETTO:+1000
TZNAME:AEST
DTSTART:20250405T160000
END:STANDARD
BEGIN:DAYLIGHT
TZOFFSETFROM:+1000
TZOFFSETTO:+1100
TZNAME:AEDT
DTSTART:20251004T160000
END:DAYLIGHT
END:VTIMEZONE
BEGIN:VEVENT
DTSTART;VALUE=DATE:20241006
DTEND;VALUE=DATE:20241007
DTSTAMP:20260420T200531
CREATED:20211118T063042Z
LAST-MODIFIED:20211118T063042Z
UID:1292-1728172800-1728259199@learmonthcider.com.au
SUMMARY:Cider Sundays
DESCRIPTION:Enjoy a Cider Sunday afternoon from noon to 4pm at Learmonth Cider.\nEntry is free: \n\nCider tastings and sales\nLight food / snacks available\nPétanque & Bocce\nChess & Draughts.\n\nFree entry | 12pm to 4pm \nCovid-19: Attendance is subject to numbers and to any Covid-19 restrictions that are in place at the time.
URL:https://learmonthcider.com.au/event/cider-sundays-2024-10-06/
LOCATION:Learmonth\, 318 High Street\,\, Learmonth\, Victoria\, 3352\, Australia
CATEGORIES:EVENTS
END:VEVENT
BEGIN:VEVENT
DTSTART;VALUE=DATE:20241013
DTEND;VALUE=DATE:20241014
DTSTAMP:20260420T200531
CREATED:20211118T063042Z
LAST-MODIFIED:20211118T063042Z
UID:1294-1728777600-1728863999@learmonthcider.com.au
SUMMARY:Cider Sundays
DESCRIPTION:Enjoy a Cider Sunday afternoon from noon to 4pm at Learmonth Cider.\nEntry is free: \n\nCider tastings and sales\nLight food / snacks available\nPétanque & Bocce\nChess & Draughts.\n\nFree entry | 12pm to 4pm \nCovid-19: Attendance is subject to numbers and to any Covid-19 restrictions that are in place at the time.
URL:https://learmonthcider.com.au/event/cider-sundays-2024-10-13/
LOCATION:Learmonth\, 318 High Street\,\, Learmonth\, Victoria\, 3352\, Australia
CATEGORIES:EVENTS
END:VEVENT
BEGIN:VEVENT
DTSTART;VALUE=DATE:20241020
DTEND;VALUE=DATE:20241021
DTSTAMP:20260420T200531
CREATED:20211118T063042Z
LAST-MODIFIED:20211118T063042Z
UID:1295-1729382400-1729468799@learmonthcider.com.au
SUMMARY:Cider Sundays
DESCRIPTION:Enjoy a Cider Sunday afternoon from noon to 4pm at Learmonth Cider.\nEntry is free: \n\nCider tastings and sales\nLight food / snacks available\nPétanque & Bocce\nChess & Draughts.\n\nFree entry | 12pm to 4pm \nCovid-19: Attendance is subject to numbers and to any Covid-19 restrictions that are in place at the time.
URL:https://learmonthcider.com.au/event/cider-sundays-2024-10-20/
LOCATION:Learmonth\, 318 High Street\,\, Learmonth\, Victoria\, 3352\, Australia
CATEGORIES:EVENTS
END:VEVENT
BEGIN:VEVENT
DTSTART;VALUE=DATE:20241027
DTEND;VALUE=DATE:20241028
DTSTAMP:20260420T200531
CREATED:20211118T063042Z
LAST-MODIFIED:20211118T063042Z
UID:1297-1729987200-1730073599@learmonthcider.com.au
SUMMARY:Cider Sundays
DESCRIPTION:Enjoy a Cider Sunday afternoon from noon to 4pm at Learmonth Cider.\nEntry is free: \n\nCider tastings and sales\nLight food / snacks available\nPétanque & Bocce\nChess & Draughts.\n\nFree entry | 12pm to 4pm \nCovid-19: Attendance is subject to numbers and to any Covid-19 restrictions that are in place at the time.
URL:https://learmonthcider.com.au/event/cider-sundays-2024-10-27/
LOCATION:Learmonth\, 318 High Street\,\, Learmonth\, Victoria\, 3352\, Australia
CATEGORIES:EVENTS
END:VEVENT
END:VCALENDAR