BEGIN:VCALENDAR
VERSION:2.0
PRODID:-//Learmonth Cider - ECPv6.15.18//NONSGML v1.0//EN
CALSCALE:GREGORIAN
METHOD:PUBLISH
X-WR-CALNAME:Learmonth Cider
X-ORIGINAL-URL:https://learmonthcider.com.au
X-WR-CALDESC:Events for Learmonth Cider
REFRESH-INTERVAL;VALUE=DURATION:PT1H
X-Robots-Tag:noindex
X-PUBLISHED-TTL:PT1H
BEGIN:VTIMEZONE
TZID:Australia/Melbourne
BEGIN:STANDARD
TZOFFSETFROM:+1100
TZOFFSETTO:+1000
TZNAME:AEST
DTSTART:20250405T160000
END:STANDARD
BEGIN:DAYLIGHT
TZOFFSETFROM:+1000
TZOFFSETTO:+1100
TZNAME:AEDT
DTSTART:20251004T160000
END:DAYLIGHT
BEGIN:STANDARD
TZOFFSETFROM:+1100
TZOFFSETTO:+1000
TZNAME:AEST
DTSTART:20260404T160000
END:STANDARD
BEGIN:DAYLIGHT
TZOFFSETFROM:+1000
TZOFFSETTO:+1100
TZNAME:AEDT
DTSTART:20261003T160000
END:DAYLIGHT
BEGIN:STANDARD
TZOFFSETFROM:+1100
TZOFFSETTO:+1000
TZNAME:AEST
DTSTART:20270403T160000
END:STANDARD
BEGIN:DAYLIGHT
TZOFFSETFROM:+1000
TZOFFSETTO:+1100
TZNAME:AEDT
DTSTART:20271002T160000
END:DAYLIGHT
END:VTIMEZONE
BEGIN:VEVENT
DTSTART;VALUE=DATE:20260503
DTEND;VALUE=DATE:20260504
DTSTAMP:20260421T194604
CREATED:20211118T063042Z
LAST-MODIFIED:20211118T063042Z
UID:1398-1777766400-1777852799@learmonthcider.com.au
SUMMARY:Cider Sundays
DESCRIPTION:Enjoy a Cider Sunday afternoon from noon to 4pm at Learmonth Cider.\nEntry is free: \n\nCider tastings and sales\nLight food / snacks available\nPétanque & Bocce\nChess & Draughts.\n\nFree entry | 12pm to 4pm \nCovid-19: Attendance is subject to numbers and to any Covid-19 restrictions that are in place at the time.
URL:https://learmonthcider.com.au/event/cider-sundays-2026-05-03/
LOCATION:Learmonth\, 318 High Street\,\, Learmonth\, Victoria\, 3352\, Australia
CATEGORIES:EVENTS
END:VEVENT
BEGIN:VEVENT
DTSTART;VALUE=DATE:20260510
DTEND;VALUE=DATE:20260511
DTSTAMP:20260421T194604
CREATED:20211118T063042Z
LAST-MODIFIED:20211118T063042Z
UID:1399-1778371200-1778457599@learmonthcider.com.au
SUMMARY:Cider Sundays
DESCRIPTION:Enjoy a Cider Sunday afternoon from noon to 4pm at Learmonth Cider.\nEntry is free: \n\nCider tastings and sales\nLight food / snacks available\nPétanque & Bocce\nChess & Draughts.\n\nFree entry | 12pm to 4pm \nCovid-19: Attendance is subject to numbers and to any Covid-19 restrictions that are in place at the time.
URL:https://learmonthcider.com.au/event/cider-sundays-2026-05-10/
LOCATION:Learmonth\, 318 High Street\,\, Learmonth\, Victoria\, 3352\, Australia
CATEGORIES:EVENTS
END:VEVENT
BEGIN:VEVENT
DTSTART;VALUE=DATE:20260517
DTEND;VALUE=DATE:20260518
DTSTAMP:20260421T194604
CREATED:20211118T063042Z
LAST-MODIFIED:20211118T063042Z
UID:1401-1778976000-1779062399@learmonthcider.com.au
SUMMARY:Cider Sundays
DESCRIPTION:Enjoy a Cider Sunday afternoon from noon to 4pm at Learmonth Cider.\nEntry is free: \n\nCider tastings and sales\nLight food / snacks available\nPétanque & Bocce\nChess & Draughts.\n\nFree entry | 12pm to 4pm \nCovid-19: Attendance is subject to numbers and to any Covid-19 restrictions that are in place at the time.
URL:https://learmonthcider.com.au/event/cider-sundays-2026-05-17/
LOCATION:Learmonth\, 318 High Street\,\, Learmonth\, Victoria\, 3352\, Australia
CATEGORIES:EVENTS
END:VEVENT
BEGIN:VEVENT
DTSTART;VALUE=DATE:20260524
DTEND;VALUE=DATE:20260525
DTSTAMP:20260421T194604
CREATED:20211118T063042Z
LAST-MODIFIED:20211118T063042Z
UID:1402-1779580800-1779667199@learmonthcider.com.au
SUMMARY:Cider Sundays
DESCRIPTION:Enjoy a Cider Sunday afternoon from noon to 4pm at Learmonth Cider.\nEntry is free: \n\nCider tastings and sales\nLight food / snacks available\nPétanque & Bocce\nChess & Draughts.\n\nFree entry | 12pm to 4pm \nCovid-19: Attendance is subject to numbers and to any Covid-19 restrictions that are in place at the time.
URL:https://learmonthcider.com.au/event/cider-sundays-2026-05-24/
LOCATION:Learmonth\, 318 High Street\,\, Learmonth\, Victoria\, 3352\, Australia
CATEGORIES:EVENTS
END:VEVENT
BEGIN:VEVENT
DTSTART;VALUE=DATE:20260531
DTEND;VALUE=DATE:20260601
DTSTAMP:20260421T194604
CREATED:20211118T063042Z
LAST-MODIFIED:20211118T063042Z
UID:1403-1780185600-1780271999@learmonthcider.com.au
SUMMARY:Cider Sundays
DESCRIPTION:Enjoy a Cider Sunday afternoon from noon to 4pm at Learmonth Cider.\nEntry is free: \n\nCider tastings and sales\nLight food / snacks available\nPétanque & Bocce\nChess & Draughts.\n\nFree entry | 12pm to 4pm \nCovid-19: Attendance is subject to numbers and to any Covid-19 restrictions that are in place at the time.
URL:https://learmonthcider.com.au/event/cider-sundays-2026-05-31/
LOCATION:Learmonth\, 318 High Street\,\, Learmonth\, Victoria\, 3352\, Australia
CATEGORIES:EVENTS
END:VEVENT
END:VCALENDAR